BEGIN:VCALENDAR
VERSION:2.0
PRODID:-//artifica.one//Triac-Lautrait//FR
CALSCALE:GREGORIAN
METHOD:PUBLISH
BEGIN:VEVENT
SUMMARY:Conseil municipal
UID:3606
SEQUENCE:0
STATUS:CONFIRMED
TRANSP:TRANSPARENT
DTSTART:20260429T060000Z
DTEND:20260429T180000Z
DTSTAMP:20230316T154158Z
CATEGORIES:Conseil municipal
DESCRIPTION:Le conseil municipal se réunira le mercredi 29 av
 ril 2026 à 19h15.
URL:https://www.triac-lautrait.fr/agenda/conseil-municipal-3606
END:VEVENT
END:VCALENDAR
